BEGIN:VCALENDAR
VERSION:2.0
PRODID:-//Southside Community Magazine - ECPv6.15.20//NONSGML v1.0//EN
CALSCALE:GREGORIAN
METHOD:PUBLISH
X-WR-CALNAME:Southside Community Magazine
X-ORIGINAL-URL:https://southside.media
X-WR-CALDESC:Events for Southside Community Magazine
REFRESH-INTERVAL;VALUE=DURATION:PT1H
X-Robots-Tag:noindex
X-PUBLISHED-TTL:PT1H
BEGIN:VTIMEZONE
TZID:UTC
BEGIN:STANDARD
TZOFFSETFROM:+0000
TZOFFSETTO:+0000
TZNAME:UTC
DTSTART:20250101T000000
END:STANDARD
END:VTIMEZONE
BEGIN:VEVENT
DTSTART;TZID=UTC:20260430T100000
DTEND;TZID=UTC:20260430T120000
DTSTAMP:20260425T012554
CREATED:20260218T093608Z
LAST-MODIFIED:20260218T093608Z
UID:10192514-1777543200-1777550400@southside.media
SUMMARY:Little Lighthouse Baby Bank
DESCRIPTION:St Martin’s Church Hall\, Bowland Road\, Baguley\, M23 1LX
URL:https://southside.media/event/little-lighthouse-baby-bank/2026-04-30/
CATEGORIES:Community Activities
END:VEVENT
BEGIN:VEVENT
DTSTART;TZID=UTC:20260507T100000
DTEND;TZID=UTC:20260507T120000
DTSTAMP:20260425T012554
CREATED:20260218T093608Z
LAST-MODIFIED:20260218T093608Z
UID:10192515-1778148000-1778155200@southside.media
SUMMARY:Little Lighthouse Baby Bank
DESCRIPTION:St Martin’s Church Hall\, Bowland Road\, Baguley\, M23 1LX
URL:https://southside.media/event/little-lighthouse-baby-bank/2026-05-07/
CATEGORIES:Community Activities
END:VEVENT
BEGIN:VEVENT
DTSTART;TZID=UTC:20260514T100000
DTEND;TZID=UTC:20260514T120000
DTSTAMP:20260425T012554
CREATED:20260218T093608Z
LAST-MODIFIED:20260218T093608Z
UID:10192516-1778752800-1778760000@southside.media
SUMMARY:Little Lighthouse Baby Bank
DESCRIPTION:St Martin’s Church Hall\, Bowland Road\, Baguley\, M23 1LX
URL:https://southside.media/event/little-lighthouse-baby-bank/2026-05-14/
CATEGORIES:Community Activities
END:VEVENT
BEGIN:VEVENT
DTSTART;TZID=UTC:20260521T100000
DTEND;TZID=UTC:20260521T120000
DTSTAMP:20260425T012554
CREATED:20260218T093608Z
LAST-MODIFIED:20260218T093608Z
UID:10192517-1779357600-1779364800@southside.media
SUMMARY:Little Lighthouse Baby Bank
DESCRIPTION:St Martin’s Church Hall\, Bowland Road\, Baguley\, M23 1LX
URL:https://southside.media/event/little-lighthouse-baby-bank/2026-05-21/
CATEGORIES:Community Activities
END:VEVENT
BEGIN:VEVENT
DTSTART;TZID=UTC:20260528T100000
DTEND;TZID=UTC:20260528T120000
DTSTAMP:20260425T012554
CREATED:20260218T093608Z
LAST-MODIFIED:20260218T093608Z
UID:10192518-1779962400-1779969600@southside.media
SUMMARY:Little Lighthouse Baby Bank
DESCRIPTION:St Martin’s Church Hall\, Bowland Road\, Baguley\, M23 1LX
URL:https://southside.media/event/little-lighthouse-baby-bank/2026-05-28/
CATEGORIES:Community Activities
END:VEVENT
BEGIN:VEVENT
DTSTART;TZID=UTC:20260604T100000
DTEND;TZID=UTC:20260604T120000
DTSTAMP:20260425T012554
CREATED:20260218T093608Z
LAST-MODIFIED:20260218T093608Z
UID:10192519-1780567200-1780574400@southside.media
SUMMARY:Little Lighthouse Baby Bank
DESCRIPTION:St Martin’s Church Hall\, Bowland Road\, Baguley\, M23 1LX
URL:https://southside.media/event/little-lighthouse-baby-bank/2026-06-04/
CATEGORIES:Community Activities
END:VEVENT
BEGIN:VEVENT
DTSTART;TZID=UTC:20260611T100000
DTEND;TZID=UTC:20260611T120000
DTSTAMP:20260425T012554
CREATED:20260218T093608Z
LAST-MODIFIED:20260218T093608Z
UID:10192520-1781172000-1781179200@southside.media
SUMMARY:Little Lighthouse Baby Bank
DESCRIPTION:St Martin’s Church Hall\, Bowland Road\, Baguley\, M23 1LX
URL:https://southside.media/event/little-lighthouse-baby-bank/2026-06-11/
CATEGORIES:Community Activities
END:VEVENT
BEGIN:VEVENT
DTSTART;TZID=UTC:20260618T100000
DTEND;TZID=UTC:20260618T120000
DTSTAMP:20260425T012554
CREATED:20260218T093608Z
LAST-MODIFIED:20260218T093608Z
UID:10192521-1781776800-1781784000@southside.media
SUMMARY:Little Lighthouse Baby Bank
DESCRIPTION:St Martin’s Church Hall\, Bowland Road\, Baguley\, M23 1LX
URL:https://southside.media/event/little-lighthouse-baby-bank/2026-06-18/
CATEGORIES:Community Activities
END:VEVENT
BEGIN:VEVENT
DTSTART;TZID=UTC:20260625T100000
DTEND;TZID=UTC:20260625T120000
DTSTAMP:20260425T012554
CREATED:20260218T093608Z
LAST-MODIFIED:20260218T093608Z
UID:10192522-1782381600-1782388800@southside.media
SUMMARY:Little Lighthouse Baby Bank
DESCRIPTION:St Martin’s Church Hall\, Bowland Road\, Baguley\, M23 1LX
URL:https://southside.media/event/little-lighthouse-baby-bank/2026-06-25/
CATEGORIES:Community Activities
END:VEVENT
BEGIN:VEVENT
DTSTART;TZID=UTC:20260702T100000
DTEND;TZID=UTC:20260702T120000
DTSTAMP:20260425T012554
CREATED:20260218T093608Z
LAST-MODIFIED:20260218T093608Z
UID:10192523-1782986400-1782993600@southside.media
SUMMARY:Little Lighthouse Baby Bank
DESCRIPTION:St Martin’s Church Hall\, Bowland Road\, Baguley\, M23 1LX
URL:https://southside.media/event/little-lighthouse-baby-bank/2026-07-02/
CATEGORIES:Community Activities
END:VEVENT
BEGIN:VEVENT
DTSTART;TZID=UTC:20260709T100000
DTEND;TZID=UTC:20260709T120000
DTSTAMP:20260425T012554
CREATED:20260218T093608Z
LAST-MODIFIED:20260218T093608Z
UID:10192524-1783591200-1783598400@southside.media
SUMMARY:Little Lighthouse Baby Bank
DESCRIPTION:St Martin’s Church Hall\, Bowland Road\, Baguley\, M23 1LX
URL:https://southside.media/event/little-lighthouse-baby-bank/2026-07-09/
CATEGORIES:Community Activities
END:VEVENT
BEGIN:VEVENT
DTSTART;TZID=UTC:20260716T100000
DTEND;TZID=UTC:20260716T120000
DTSTAMP:20260425T012554
CREATED:20260218T093608Z
LAST-MODIFIED:20260218T093608Z
UID:10192525-1784196000-1784203200@southside.media
SUMMARY:Little Lighthouse Baby Bank
DESCRIPTION:St Martin’s Church Hall\, Bowland Road\, Baguley\, M23 1LX
URL:https://southside.media/event/little-lighthouse-baby-bank/2026-07-16/
CATEGORIES:Community Activities
END:VEVENT
BEGIN:VEVENT
DTSTART;TZID=UTC:20260723T100000
DTEND;TZID=UTC:20260723T120000
DTSTAMP:20260425T012554
CREATED:20260218T093608Z
LAST-MODIFIED:20260218T093608Z
UID:10192526-1784800800-1784808000@southside.media
SUMMARY:Little Lighthouse Baby Bank
DESCRIPTION:St Martin’s Church Hall\, Bowland Road\, Baguley\, M23 1LX
URL:https://southside.media/event/little-lighthouse-baby-bank/2026-07-23/
CATEGORIES:Community Activities
END:VEVENT
BEGIN:VEVENT
DTSTART;TZID=UTC:20260730T100000
DTEND;TZID=UTC:20260730T120000
DTSTAMP:20260425T012554
CREATED:20260218T093608Z
LAST-MODIFIED:20260218T093608Z
UID:10192527-1785405600-1785412800@southside.media
SUMMARY:Little Lighthouse Baby Bank
DESCRIPTION:St Martin’s Church Hall\, Bowland Road\, Baguley\, M23 1LX
URL:https://southside.media/event/little-lighthouse-baby-bank/2026-07-30/
CATEGORIES:Community Activities
END:VEVENT
BEGIN:VEVENT
DTSTART;TZID=UTC:20260806T100000
DTEND;TZID=UTC:20260806T120000
DTSTAMP:20260425T012555
CREATED:20260218T093608Z
LAST-MODIFIED:20260218T093608Z
UID:10192528-1786010400-1786017600@southside.media
SUMMARY:Little Lighthouse Baby Bank
DESCRIPTION:St Martin’s Church Hall\, Bowland Road\, Baguley\, M23 1LX
URL:https://southside.media/event/little-lighthouse-baby-bank/2026-08-06/
CATEGORIES:Community Activities
END:VEVENT
BEGIN:VEVENT
DTSTART;TZID=UTC:20260813T100000
DTEND;TZID=UTC:20260813T120000
DTSTAMP:20260425T012555
CREATED:20260218T093608Z
LAST-MODIFIED:20260218T093608Z
UID:10192529-1786615200-1786622400@southside.media
SUMMARY:Little Lighthouse Baby Bank
DESCRIPTION:St Martin’s Church Hall\, Bowland Road\, Baguley\, M23 1LX
URL:https://southside.media/event/little-lighthouse-baby-bank/2026-08-13/
CATEGORIES:Community Activities
END:VEVENT
BEGIN:VEVENT
DTSTART;TZID=UTC:20260820T100000
DTEND;TZID=UTC:20260820T120000
DTSTAMP:20260425T012555
CREATED:20260218T093608Z
LAST-MODIFIED:20260218T093608Z
UID:10192530-1787220000-1787227200@southside.media
SUMMARY:Little Lighthouse Baby Bank
DESCRIPTION:St Martin’s Church Hall\, Bowland Road\, Baguley\, M23 1LX
URL:https://southside.media/event/little-lighthouse-baby-bank/2026-08-20/
CATEGORIES:Community Activities
END:VEVENT
BEGIN:VEVENT
DTSTART;TZID=UTC:20260827T100000
DTEND;TZID=UTC:20260827T120000
DTSTAMP:20260425T012555
CREATED:20260218T093608Z
LAST-MODIFIED:20260218T093608Z
UID:10192531-1787824800-1787832000@southside.media
SUMMARY:Little Lighthouse Baby Bank
DESCRIPTION:St Martin’s Church Hall\, Bowland Road\, Baguley\, M23 1LX
URL:https://southside.media/event/little-lighthouse-baby-bank/2026-08-27/
CATEGORIES:Community Activities
END:VEVENT
BEGIN:VEVENT
DTSTART;TZID=UTC:20260903T100000
DTEND;TZID=UTC:20260903T120000
DTSTAMP:20260425T012555
CREATED:20260218T093608Z
LAST-MODIFIED:20260218T093608Z
UID:10192532-1788429600-1788436800@southside.media
SUMMARY:Little Lighthouse Baby Bank
DESCRIPTION:St Martin’s Church Hall\, Bowland Road\, Baguley\, M23 1LX
URL:https://southside.media/event/little-lighthouse-baby-bank/2026-09-03/
CATEGORIES:Community Activities
END:VEVENT
BEGIN:VEVENT
DTSTART;TZID=UTC:20260910T100000
DTEND;TZID=UTC:20260910T120000
DTSTAMP:20260425T012555
CREATED:20260218T093608Z
LAST-MODIFIED:20260218T093608Z
UID:10192533-1789034400-1789041600@southside.media
SUMMARY:Little Lighthouse Baby Bank
DESCRIPTION:St Martin’s Church Hall\, Bowland Road\, Baguley\, M23 1LX
URL:https://southside.media/event/little-lighthouse-baby-bank/2026-09-10/
CATEGORIES:Community Activities
END:VEVENT
BEGIN:VEVENT
DTSTART;TZID=UTC:20260917T100000
DTEND;TZID=UTC:20260917T120000
DTSTAMP:20260425T012555
CREATED:20260218T093608Z
LAST-MODIFIED:20260218T093608Z
UID:10192534-1789639200-1789646400@southside.media
SUMMARY:Little Lighthouse Baby Bank
DESCRIPTION:St Martin’s Church Hall\, Bowland Road\, Baguley\, M23 1LX
URL:https://southside.media/event/little-lighthouse-baby-bank/2026-09-17/
CATEGORIES:Community Activities
END:VEVENT
BEGIN:VEVENT
DTSTART;TZID=UTC:20260924T100000
DTEND;TZID=UTC:20260924T120000
DTSTAMP:20260425T012555
CREATED:20260218T093608Z
LAST-MODIFIED:20260218T093608Z
UID:10192535-1790244000-1790251200@southside.media
SUMMARY:Little Lighthouse Baby Bank
DESCRIPTION:St Martin’s Church Hall\, Bowland Road\, Baguley\, M23 1LX
URL:https://southside.media/event/little-lighthouse-baby-bank/2026-09-24/
CATEGORIES:Community Activities
END:VEVENT
BEGIN:VEVENT
DTSTART;TZID=UTC:20261001T100000
DTEND;TZID=UTC:20261001T120000
DTSTAMP:20260425T012555
CREATED:20260218T093608Z
LAST-MODIFIED:20260218T093608Z
UID:10192536-1790848800-1790856000@southside.media
SUMMARY:Little Lighthouse Baby Bank
DESCRIPTION:St Martin’s Church Hall\, Bowland Road\, Baguley\, M23 1LX
URL:https://southside.media/event/little-lighthouse-baby-bank/2026-10-01/
CATEGORIES:Community Activities
END:VEVENT
BEGIN:VEVENT
DTSTART;TZID=UTC:20261008T100000
DTEND;TZID=UTC:20261008T120000
DTSTAMP:20260425T012555
CREATED:20260218T093608Z
LAST-MODIFIED:20260218T093608Z
UID:10192537-1791453600-1791460800@southside.media
SUMMARY:Little Lighthouse Baby Bank
DESCRIPTION:St Martin’s Church Hall\, Bowland Road\, Baguley\, M23 1LX
URL:https://southside.media/event/little-lighthouse-baby-bank/2026-10-08/
CATEGORIES:Community Activities
END:VEVENT
BEGIN:VEVENT
DTSTART;TZID=UTC:20261015T100000
DTEND;TZID=UTC:20261015T120000
DTSTAMP:20260425T012555
CREATED:20260218T093608Z
LAST-MODIFIED:20260218T093608Z
UID:10192538-1792058400-1792065600@southside.media
SUMMARY:Little Lighthouse Baby Bank
DESCRIPTION:St Martin’s Church Hall\, Bowland Road\, Baguley\, M23 1LX
URL:https://southside.media/event/little-lighthouse-baby-bank/2026-10-15/
CATEGORIES:Community Activities
END:VEVENT
BEGIN:VEVENT
DTSTART;TZID=UTC:20261022T100000
DTEND;TZID=UTC:20261022T120000
DTSTAMP:20260425T012555
CREATED:20260218T093608Z
LAST-MODIFIED:20260218T093608Z
UID:10192539-1792663200-1792670400@southside.media
SUMMARY:Little Lighthouse Baby Bank
DESCRIPTION:St Martin’s Church Hall\, Bowland Road\, Baguley\, M23 1LX
URL:https://southside.media/event/little-lighthouse-baby-bank/2026-10-22/
CATEGORIES:Community Activities
END:VEVENT
BEGIN:VEVENT
DTSTART;TZID=UTC:20261029T100000
DTEND;TZID=UTC:20261029T120000
DTSTAMP:20260425T012555
CREATED:20260218T093608Z
LAST-MODIFIED:20260218T093608Z
UID:10192540-1793268000-1793275200@southside.media
SUMMARY:Little Lighthouse Baby Bank
DESCRIPTION:St Martin’s Church Hall\, Bowland Road\, Baguley\, M23 1LX
URL:https://southside.media/event/little-lighthouse-baby-bank/2026-10-29/
CATEGORIES:Community Activities
END:VEVENT
BEGIN:VEVENT
DTSTART;TZID=UTC:20261105T100000
DTEND;TZID=UTC:20261105T120000
DTSTAMP:20260425T012555
CREATED:20260218T093608Z
LAST-MODIFIED:20260218T093608Z
UID:10192541-1793872800-1793880000@southside.media
SUMMARY:Little Lighthouse Baby Bank
DESCRIPTION:St Martin’s Church Hall\, Bowland Road\, Baguley\, M23 1LX
URL:https://southside.media/event/little-lighthouse-baby-bank/2026-11-05/
CATEGORIES:Community Activities
END:VEVENT
BEGIN:VEVENT
DTSTART;TZID=UTC:20261112T100000
DTEND;TZID=UTC:20261112T120000
DTSTAMP:20260425T012555
CREATED:20260218T093608Z
LAST-MODIFIED:20260218T093608Z
UID:10192542-1794477600-1794484800@southside.media
SUMMARY:Little Lighthouse Baby Bank
DESCRIPTION:St Martin’s Church Hall\, Bowland Road\, Baguley\, M23 1LX
URL:https://southside.media/event/little-lighthouse-baby-bank/2026-11-12/
CATEGORIES:Community Activities
END:VEVENT
BEGIN:VEVENT
DTSTART;TZID=UTC:20261119T100000
DTEND;TZID=UTC:20261119T120000
DTSTAMP:20260425T012555
CREATED:20260218T093608Z
LAST-MODIFIED:20260218T093608Z
UID:10192543-1795082400-1795089600@southside.media
SUMMARY:Little Lighthouse Baby Bank
DESCRIPTION:St Martin’s Church Hall\, Bowland Road\, Baguley\, M23 1LX
URL:https://southside.media/event/little-lighthouse-baby-bank/2026-11-19/
CATEGORIES:Community Activities
END:VEVENT
END:VCALENDAR