BEGIN:VCALENDAR
VERSION:2.0
PRODID:-//Southside Community Magazine - ECPv6.15.14//NONSGML v1.0//EN
CALSCALE:GREGORIAN
METHOD:PUBLISH
X-WR-CALNAME:Southside Community Magazine
X-ORIGINAL-URL:https://southside.media
X-WR-CALDESC:Events for Southside Community Magazine
REFRESH-INTERVAL;VALUE=DURATION:PT1H
X-Robots-Tag:noindex
X-PUBLISHED-TTL:PT1H
BEGIN:VTIMEZONE
TZID:UTC
BEGIN:STANDARD
TZOFFSETFROM:+0000
TZOFFSETTO:+0000
TZNAME:UTC
DTSTART:20250101T000000
END:STANDARD
END:VTIMEZONE
BEGIN:VEVENT
DTSTART;TZID=UTC:20260423T130000
DTEND;TZID=UTC:20260423T143000
DTSTAMP:20260421T115543
CREATED:20230613T133310Z
LAST-MODIFIED:20250916T181558Z
UID:10191241-1776949200-1776954600@southside.media
SUMMARY:SEND Carers - Brew Toast and Chat
DESCRIPTION:Benchill Community Centre\, Benchill Rd\, Manchester\, M22 8EJ.  Phone:0161 946 9520  /  Email: bcc@wchg.org.uk  /  https://www.benchillcommunitycentre.co.uk/ \nSector – Food / Warm Hubs \nPlease click on the title for more information
URL:https://southside.media/event/send-carers-brew-toast-and-chat-2-2/2026-04-23/
CATEGORIES:Food / Warm Hubs
END:VEVENT
BEGIN:VEVENT
DTSTART;TZID=UTC:20260430T130000
DTEND;TZID=UTC:20260430T143000
DTSTAMP:20260421T115543
CREATED:20230613T133310Z
LAST-MODIFIED:20250916T181558Z
UID:10191242-1777554000-1777559400@southside.media
SUMMARY:SEND Carers - Brew Toast and Chat
DESCRIPTION:Benchill Community Centre\, Benchill Rd\, Manchester\, M22 8EJ.  Phone:0161 946 9520  /  Email: bcc@wchg.org.uk  /  https://www.benchillcommunitycentre.co.uk/ \nSector – Food / Warm Hubs \nPlease click on the title for more information
URL:https://southside.media/event/send-carers-brew-toast-and-chat-2-2/2026-04-30/
CATEGORIES:Food / Warm Hubs
END:VEVENT
BEGIN:VEVENT
DTSTART;TZID=UTC:20260507T130000
DTEND;TZID=UTC:20260507T143000
DTSTAMP:20260421T115543
CREATED:20230613T133310Z
LAST-MODIFIED:20250916T181558Z
UID:10191243-1778158800-1778164200@southside.media
SUMMARY:SEND Carers - Brew Toast and Chat
DESCRIPTION:Benchill Community Centre\, Benchill Rd\, Manchester\, M22 8EJ.  Phone:0161 946 9520  /  Email: bcc@wchg.org.uk  /  https://www.benchillcommunitycentre.co.uk/ \nSector – Food / Warm Hubs \nPlease click on the title for more information
URL:https://southside.media/event/send-carers-brew-toast-and-chat-2-2/2026-05-07/
CATEGORIES:Food / Warm Hubs
END:VEVENT
BEGIN:VEVENT
DTSTART;TZID=UTC:20260514T130000
DTEND;TZID=UTC:20260514T143000
DTSTAMP:20260421T115544
CREATED:20230613T133310Z
LAST-MODIFIED:20250916T181558Z
UID:10191244-1778763600-1778769000@southside.media
SUMMARY:SEND Carers - Brew Toast and Chat
DESCRIPTION:Benchill Community Centre\, Benchill Rd\, Manchester\, M22 8EJ.  Phone:0161 946 9520  /  Email: bcc@wchg.org.uk  /  https://www.benchillcommunitycentre.co.uk/ \nSector – Food / Warm Hubs \nPlease click on the title for more information
URL:https://southside.media/event/send-carers-brew-toast-and-chat-2-2/2026-05-14/
CATEGORIES:Food / Warm Hubs
END:VEVENT
BEGIN:VEVENT
DTSTART;TZID=UTC:20260521T130000
DTEND;TZID=UTC:20260521T143000
DTSTAMP:20260421T115544
CREATED:20230613T133310Z
LAST-MODIFIED:20250916T181558Z
UID:10191245-1779368400-1779373800@southside.media
SUMMARY:SEND Carers - Brew Toast and Chat
DESCRIPTION:Benchill Community Centre\, Benchill Rd\, Manchester\, M22 8EJ.  Phone:0161 946 9520  /  Email: bcc@wchg.org.uk  /  https://www.benchillcommunitycentre.co.uk/ \nSector – Food / Warm Hubs \nPlease click on the title for more information
URL:https://southside.media/event/send-carers-brew-toast-and-chat-2-2/2026-05-21/
CATEGORIES:Food / Warm Hubs
END:VEVENT
BEGIN:VEVENT
DTSTART;TZID=UTC:20260528T130000
DTEND;TZID=UTC:20260528T143000
DTSTAMP:20260421T115544
CREATED:20230613T133310Z
LAST-MODIFIED:20250916T181558Z
UID:10191246-1779973200-1779978600@southside.media
SUMMARY:SEND Carers - Brew Toast and Chat
DESCRIPTION:Benchill Community Centre\, Benchill Rd\, Manchester\, M22 8EJ.  Phone:0161 946 9520  /  Email: bcc@wchg.org.uk  /  https://www.benchillcommunitycentre.co.uk/ \nSector – Food / Warm Hubs \nPlease click on the title for more information
URL:https://southside.media/event/send-carers-brew-toast-and-chat-2-2/2026-05-28/
CATEGORIES:Food / Warm Hubs
END:VEVENT
BEGIN:VEVENT
DTSTART;TZID=UTC:20260604T130000
DTEND;TZID=UTC:20260604T143000
DTSTAMP:20260421T115544
CREATED:20230613T133310Z
LAST-MODIFIED:20250916T181558Z
UID:10191247-1780578000-1780583400@southside.media
SUMMARY:SEND Carers - Brew Toast and Chat
DESCRIPTION:Benchill Community Centre\, Benchill Rd\, Manchester\, M22 8EJ.  Phone:0161 946 9520  /  Email: bcc@wchg.org.uk  /  https://www.benchillcommunitycentre.co.uk/ \nSector – Food / Warm Hubs \nPlease click on the title for more information
URL:https://southside.media/event/send-carers-brew-toast-and-chat-2-2/2026-06-04/
CATEGORIES:Food / Warm Hubs
END:VEVENT
BEGIN:VEVENT
DTSTART;TZID=UTC:20260611T130000
DTEND;TZID=UTC:20260611T143000
DTSTAMP:20260421T115544
CREATED:20230613T133310Z
LAST-MODIFIED:20250916T181558Z
UID:10191248-1781182800-1781188200@southside.media
SUMMARY:SEND Carers - Brew Toast and Chat
DESCRIPTION:Benchill Community Centre\, Benchill Rd\, Manchester\, M22 8EJ.  Phone:0161 946 9520  /  Email: bcc@wchg.org.uk  /  https://www.benchillcommunitycentre.co.uk/ \nSector – Food / Warm Hubs \nPlease click on the title for more information
URL:https://southside.media/event/send-carers-brew-toast-and-chat-2-2/2026-06-11/
CATEGORIES:Food / Warm Hubs
END:VEVENT
BEGIN:VEVENT
DTSTART;TZID=UTC:20260618T130000
DTEND;TZID=UTC:20260618T143000
DTSTAMP:20260421T115544
CREATED:20230613T133310Z
LAST-MODIFIED:20250916T181558Z
UID:10191249-1781787600-1781793000@southside.media
SUMMARY:SEND Carers - Brew Toast and Chat
DESCRIPTION:Benchill Community Centre\, Benchill Rd\, Manchester\, M22 8EJ.  Phone:0161 946 9520  /  Email: bcc@wchg.org.uk  /  https://www.benchillcommunitycentre.co.uk/ \nSector – Food / Warm Hubs \nPlease click on the title for more information
URL:https://southside.media/event/send-carers-brew-toast-and-chat-2-2/2026-06-18/
CATEGORIES:Food / Warm Hubs
END:VEVENT
BEGIN:VEVENT
DTSTART;TZID=UTC:20260625T130000
DTEND;TZID=UTC:20260625T143000
DTSTAMP:20260421T115544
CREATED:20230613T133310Z
LAST-MODIFIED:20250916T181558Z
UID:10191250-1782392400-1782397800@southside.media
SUMMARY:SEND Carers - Brew Toast and Chat
DESCRIPTION:Benchill Community Centre\, Benchill Rd\, Manchester\, M22 8EJ.  Phone:0161 946 9520  /  Email: bcc@wchg.org.uk  /  https://www.benchillcommunitycentre.co.uk/ \nSector – Food / Warm Hubs \nPlease click on the title for more information
URL:https://southside.media/event/send-carers-brew-toast-and-chat-2-2/2026-06-25/
CATEGORIES:Food / Warm Hubs
END:VEVENT
BEGIN:VEVENT
DTSTART;TZID=UTC:20260702T130000
DTEND;TZID=UTC:20260702T143000
DTSTAMP:20260421T115544
CREATED:20230613T133310Z
LAST-MODIFIED:20250916T181558Z
UID:10191251-1782997200-1783002600@southside.media
SUMMARY:SEND Carers - Brew Toast and Chat
DESCRIPTION:Benchill Community Centre\, Benchill Rd\, Manchester\, M22 8EJ.  Phone:0161 946 9520  /  Email: bcc@wchg.org.uk  /  https://www.benchillcommunitycentre.co.uk/ \nSector – Food / Warm Hubs \nPlease click on the title for more information
URL:https://southside.media/event/send-carers-brew-toast-and-chat-2-2/2026-07-02/
CATEGORIES:Food / Warm Hubs
END:VEVENT
BEGIN:VEVENT
DTSTART;TZID=UTC:20260709T130000
DTEND;TZID=UTC:20260709T143000
DTSTAMP:20260421T115544
CREATED:20230613T133310Z
LAST-MODIFIED:20250916T181558Z
UID:10191252-1783602000-1783607400@southside.media
SUMMARY:SEND Carers - Brew Toast and Chat
DESCRIPTION:Benchill Community Centre\, Benchill Rd\, Manchester\, M22 8EJ.  Phone:0161 946 9520  /  Email: bcc@wchg.org.uk  /  https://www.benchillcommunitycentre.co.uk/ \nSector – Food / Warm Hubs \nPlease click on the title for more information
URL:https://southside.media/event/send-carers-brew-toast-and-chat-2-2/2026-07-09/
CATEGORIES:Food / Warm Hubs
END:VEVENT
BEGIN:VEVENT
DTSTART;TZID=UTC:20260716T130000
DTEND;TZID=UTC:20260716T143000
DTSTAMP:20260421T115544
CREATED:20230613T133310Z
LAST-MODIFIED:20250916T181558Z
UID:10191253-1784206800-1784212200@southside.media
SUMMARY:SEND Carers - Brew Toast and Chat
DESCRIPTION:Benchill Community Centre\, Benchill Rd\, Manchester\, M22 8EJ.  Phone:0161 946 9520  /  Email: bcc@wchg.org.uk  /  https://www.benchillcommunitycentre.co.uk/ \nSector – Food / Warm Hubs \nPlease click on the title for more information
URL:https://southside.media/event/send-carers-brew-toast-and-chat-2-2/2026-07-16/
CATEGORIES:Food / Warm Hubs
END:VEVENT
BEGIN:VEVENT
DTSTART;TZID=UTC:20260723T130000
DTEND;TZID=UTC:20260723T143000
DTSTAMP:20260421T115544
CREATED:20230613T133310Z
LAST-MODIFIED:20250916T181558Z
UID:10191254-1784811600-1784817000@southside.media
SUMMARY:SEND Carers - Brew Toast and Chat
DESCRIPTION:Benchill Community Centre\, Benchill Rd\, Manchester\, M22 8EJ.  Phone:0161 946 9520  /  Email: bcc@wchg.org.uk  /  https://www.benchillcommunitycentre.co.uk/ \nSector – Food / Warm Hubs \nPlease click on the title for more information
URL:https://southside.media/event/send-carers-brew-toast-and-chat-2-2/2026-07-23/
CATEGORIES:Food / Warm Hubs
END:VEVENT
BEGIN:VEVENT
DTSTART;TZID=UTC:20260730T130000
DTEND;TZID=UTC:20260730T143000
DTSTAMP:20260421T115544
CREATED:20230613T133310Z
LAST-MODIFIED:20250916T181558Z
UID:10191255-1785416400-1785421800@southside.media
SUMMARY:SEND Carers - Brew Toast and Chat
DESCRIPTION:Benchill Community Centre\, Benchill Rd\, Manchester\, M22 8EJ.  Phone:0161 946 9520  /  Email: bcc@wchg.org.uk  /  https://www.benchillcommunitycentre.co.uk/ \nSector – Food / Warm Hubs \nPlease click on the title for more information
URL:https://southside.media/event/send-carers-brew-toast-and-chat-2-2/2026-07-30/
CATEGORIES:Food / Warm Hubs
END:VEVENT
BEGIN:VEVENT
DTSTART;TZID=UTC:20260806T130000
DTEND;TZID=UTC:20260806T143000
DTSTAMP:20260421T115544
CREATED:20230613T133310Z
LAST-MODIFIED:20250916T181558Z
UID:10191256-1786021200-1786026600@southside.media
SUMMARY:SEND Carers - Brew Toast and Chat
DESCRIPTION:Benchill Community Centre\, Benchill Rd\, Manchester\, M22 8EJ.  Phone:0161 946 9520  /  Email: bcc@wchg.org.uk  /  https://www.benchillcommunitycentre.co.uk/ \nSector – Food / Warm Hubs \nPlease click on the title for more information
URL:https://southside.media/event/send-carers-brew-toast-and-chat-2-2/2026-08-06/
CATEGORIES:Food / Warm Hubs
END:VEVENT
BEGIN:VEVENT
DTSTART;TZID=UTC:20260813T130000
DTEND;TZID=UTC:20260813T143000
DTSTAMP:20260421T115544
CREATED:20230613T133310Z
LAST-MODIFIED:20250916T181558Z
UID:10191257-1786626000-1786631400@southside.media
SUMMARY:SEND Carers - Brew Toast and Chat
DESCRIPTION:Benchill Community Centre\, Benchill Rd\, Manchester\, M22 8EJ.  Phone:0161 946 9520  /  Email: bcc@wchg.org.uk  /  https://www.benchillcommunitycentre.co.uk/ \nSector – Food / Warm Hubs \nPlease click on the title for more information
URL:https://southside.media/event/send-carers-brew-toast-and-chat-2-2/2026-08-13/
CATEGORIES:Food / Warm Hubs
END:VEVENT
BEGIN:VEVENT
DTSTART;TZID=UTC:20260820T130000
DTEND;TZID=UTC:20260820T143000
DTSTAMP:20260421T115544
CREATED:20230613T133310Z
LAST-MODIFIED:20250916T181558Z
UID:10191258-1787230800-1787236200@southside.media
SUMMARY:SEND Carers - Brew Toast and Chat
DESCRIPTION:Benchill Community Centre\, Benchill Rd\, Manchester\, M22 8EJ.  Phone:0161 946 9520  /  Email: bcc@wchg.org.uk  /  https://www.benchillcommunitycentre.co.uk/ \nSector – Food / Warm Hubs \nPlease click on the title for more information
URL:https://southside.media/event/send-carers-brew-toast-and-chat-2-2/2026-08-20/
CATEGORIES:Food / Warm Hubs
END:VEVENT
BEGIN:VEVENT
DTSTART;TZID=UTC:20260827T130000
DTEND;TZID=UTC:20260827T143000
DTSTAMP:20260421T115544
CREATED:20230613T133310Z
LAST-MODIFIED:20250916T181558Z
UID:10191259-1787835600-1787841000@southside.media
SUMMARY:SEND Carers - Brew Toast and Chat
DESCRIPTION:Benchill Community Centre\, Benchill Rd\, Manchester\, M22 8EJ.  Phone:0161 946 9520  /  Email: bcc@wchg.org.uk  /  https://www.benchillcommunitycentre.co.uk/ \nSector – Food / Warm Hubs \nPlease click on the title for more information
URL:https://southside.media/event/send-carers-brew-toast-and-chat-2-2/2026-08-27/
CATEGORIES:Food / Warm Hubs
END:VEVENT
BEGIN:VEVENT
DTSTART;TZID=UTC:20260903T130000
DTEND;TZID=UTC:20260903T143000
DTSTAMP:20260421T115544
CREATED:20230613T133310Z
LAST-MODIFIED:20250916T181558Z
UID:10191260-1788440400-1788445800@southside.media
SUMMARY:SEND Carers - Brew Toast and Chat
DESCRIPTION:Benchill Community Centre\, Benchill Rd\, Manchester\, M22 8EJ.  Phone:0161 946 9520  /  Email: bcc@wchg.org.uk  /  https://www.benchillcommunitycentre.co.uk/ \nSector – Food / Warm Hubs \nPlease click on the title for more information
URL:https://southside.media/event/send-carers-brew-toast-and-chat-2-2/2026-09-03/
CATEGORIES:Food / Warm Hubs
END:VEVENT
BEGIN:VEVENT
DTSTART;TZID=UTC:20260910T130000
DTEND;TZID=UTC:20260910T143000
DTSTAMP:20260421T115544
CREATED:20230613T133310Z
LAST-MODIFIED:20250916T181558Z
UID:10191261-1789045200-1789050600@southside.media
SUMMARY:SEND Carers - Brew Toast and Chat
DESCRIPTION:Benchill Community Centre\, Benchill Rd\, Manchester\, M22 8EJ.  Phone:0161 946 9520  /  Email: bcc@wchg.org.uk  /  https://www.benchillcommunitycentre.co.uk/ \nSector – Food / Warm Hubs \nPlease click on the title for more information
URL:https://southside.media/event/send-carers-brew-toast-and-chat-2-2/2026-09-10/
CATEGORIES:Food / Warm Hubs
END:VEVENT
BEGIN:VEVENT
DTSTART;TZID=UTC:20260917T130000
DTEND;TZID=UTC:20260917T143000
DTSTAMP:20260421T115544
CREATED:20230613T133310Z
LAST-MODIFIED:20250916T181558Z
UID:10191262-1789650000-1789655400@southside.media
SUMMARY:SEND Carers - Brew Toast and Chat
DESCRIPTION:Benchill Community Centre\, Benchill Rd\, Manchester\, M22 8EJ.  Phone:0161 946 9520  /  Email: bcc@wchg.org.uk  /  https://www.benchillcommunitycentre.co.uk/ \nSector – Food / Warm Hubs \nPlease click on the title for more information
URL:https://southside.media/event/send-carers-brew-toast-and-chat-2-2/2026-09-17/
CATEGORIES:Food / Warm Hubs
END:VEVENT
BEGIN:VEVENT
DTSTART;TZID=UTC:20260924T130000
DTEND;TZID=UTC:20260924T143000
DTSTAMP:20260421T115544
CREATED:20230613T133310Z
LAST-MODIFIED:20250916T181558Z
UID:10191263-1790254800-1790260200@southside.media
SUMMARY:SEND Carers - Brew Toast and Chat
DESCRIPTION:Benchill Community Centre\, Benchill Rd\, Manchester\, M22 8EJ.  Phone:0161 946 9520  /  Email: bcc@wchg.org.uk  /  https://www.benchillcommunitycentre.co.uk/ \nSector – Food / Warm Hubs \nPlease click on the title for more information
URL:https://southside.media/event/send-carers-brew-toast-and-chat-2-2/2026-09-24/
CATEGORIES:Food / Warm Hubs
END:VEVENT
BEGIN:VEVENT
DTSTART;TZID=UTC:20261001T130000
DTEND;TZID=UTC:20261001T143000
DTSTAMP:20260421T115544
CREATED:20230613T133310Z
LAST-MODIFIED:20250916T181558Z
UID:10191264-1790859600-1790865000@southside.media
SUMMARY:SEND Carers - Brew Toast and Chat
DESCRIPTION:Benchill Community Centre\, Benchill Rd\, Manchester\, M22 8EJ.  Phone:0161 946 9520  /  Email: bcc@wchg.org.uk  /  https://www.benchillcommunitycentre.co.uk/ \nSector – Food / Warm Hubs \nPlease click on the title for more information
URL:https://southside.media/event/send-carers-brew-toast-and-chat-2-2/2026-10-01/
CATEGORIES:Food / Warm Hubs
END:VEVENT
BEGIN:VEVENT
DTSTART;TZID=UTC:20261008T130000
DTEND;TZID=UTC:20261008T143000
DTSTAMP:20260421T115544
CREATED:20230613T133310Z
LAST-MODIFIED:20250916T181558Z
UID:10191265-1791464400-1791469800@southside.media
SUMMARY:SEND Carers - Brew Toast and Chat
DESCRIPTION:Benchill Community Centre\, Benchill Rd\, Manchester\, M22 8EJ.  Phone:0161 946 9520  /  Email: bcc@wchg.org.uk  /  https://www.benchillcommunitycentre.co.uk/ \nSector – Food / Warm Hubs \nPlease click on the title for more information
URL:https://southside.media/event/send-carers-brew-toast-and-chat-2-2/2026-10-08/
CATEGORIES:Food / Warm Hubs
END:VEVENT
BEGIN:VEVENT
DTSTART;TZID=UTC:20261015T130000
DTEND;TZID=UTC:20261015T143000
DTSTAMP:20260421T115544
CREATED:20230613T133310Z
LAST-MODIFIED:20250916T181558Z
UID:10191266-1792069200-1792074600@southside.media
SUMMARY:SEND Carers - Brew Toast and Chat
DESCRIPTION:Benchill Community Centre\, Benchill Rd\, Manchester\, M22 8EJ.  Phone:0161 946 9520  /  Email: bcc@wchg.org.uk  /  https://www.benchillcommunitycentre.co.uk/ \nSector – Food / Warm Hubs \nPlease click on the title for more information
URL:https://southside.media/event/send-carers-brew-toast-and-chat-2-2/2026-10-15/
CATEGORIES:Food / Warm Hubs
END:VEVENT
BEGIN:VEVENT
DTSTART;TZID=UTC:20261022T130000
DTEND;TZID=UTC:20261022T143000
DTSTAMP:20260421T115544
CREATED:20230613T133310Z
LAST-MODIFIED:20250916T181558Z
UID:10191267-1792674000-1792679400@southside.media
SUMMARY:SEND Carers - Brew Toast and Chat
DESCRIPTION:Benchill Community Centre\, Benchill Rd\, Manchester\, M22 8EJ.  Phone:0161 946 9520  /  Email: bcc@wchg.org.uk  /  https://www.benchillcommunitycentre.co.uk/ \nSector – Food / Warm Hubs \nPlease click on the title for more information
URL:https://southside.media/event/send-carers-brew-toast-and-chat-2-2/2026-10-22/
CATEGORIES:Food / Warm Hubs
END:VEVENT
BEGIN:VEVENT
DTSTART;TZID=UTC:20261029T130000
DTEND;TZID=UTC:20261029T143000
DTSTAMP:20260421T115544
CREATED:20230613T133310Z
LAST-MODIFIED:20250916T181558Z
UID:10191268-1793278800-1793284200@southside.media
SUMMARY:SEND Carers - Brew Toast and Chat
DESCRIPTION:Benchill Community Centre\, Benchill Rd\, Manchester\, M22 8EJ.  Phone:0161 946 9520  /  Email: bcc@wchg.org.uk  /  https://www.benchillcommunitycentre.co.uk/ \nSector – Food / Warm Hubs \nPlease click on the title for more information
URL:https://southside.media/event/send-carers-brew-toast-and-chat-2-2/2026-10-29/
CATEGORIES:Food / Warm Hubs
END:VEVENT
BEGIN:VEVENT
DTSTART;TZID=UTC:20261105T130000
DTEND;TZID=UTC:20261105T143000
DTSTAMP:20260421T115544
CREATED:20230613T133310Z
LAST-MODIFIED:20250916T181558Z
UID:10191269-1793883600-1793889000@southside.media
SUMMARY:SEND Carers - Brew Toast and Chat
DESCRIPTION:Benchill Community Centre\, Benchill Rd\, Manchester\, M22 8EJ.  Phone:0161 946 9520  /  Email: bcc@wchg.org.uk  /  https://www.benchillcommunitycentre.co.uk/ \nSector – Food / Warm Hubs \nPlease click on the title for more information
URL:https://southside.media/event/send-carers-brew-toast-and-chat-2-2/2026-11-05/
CATEGORIES:Food / Warm Hubs
END:VEVENT
BEGIN:VEVENT
DTSTART;TZID=UTC:20261112T130000
DTEND;TZID=UTC:20261112T143000
DTSTAMP:20260421T115544
CREATED:20230613T133310Z
LAST-MODIFIED:20250916T181558Z
UID:10191270-1794488400-1794493800@southside.media
SUMMARY:SEND Carers - Brew Toast and Chat
DESCRIPTION:Benchill Community Centre\, Benchill Rd\, Manchester\, M22 8EJ.  Phone:0161 946 9520  /  Email: bcc@wchg.org.uk  /  https://www.benchillcommunitycentre.co.uk/ \nSector – Food / Warm Hubs \nPlease click on the title for more information
URL:https://southside.media/event/send-carers-brew-toast-and-chat-2-2/2026-11-12/
CATEGORIES:Food / Warm Hubs
END:VEVENT
END:VCALENDAR