BEGIN:VCALENDAR
VERSION:2.0
PRODID:-//Southside Community Magazine - ECPv6.15.20//NONSGML v1.0//EN
CALSCALE:GREGORIAN
METHOD:PUBLISH
X-ORIGINAL-URL:https://southside.media
X-WR-CALDESC:Events for Southside Community Magazine
REFRESH-INTERVAL;VALUE=DURATION:PT1H
X-Robots-Tag:noindex
X-PUBLISHED-TTL:PT1H
BEGIN:VTIMEZONE
TZID:UTC
BEGIN:STANDARD
TZOFFSETFROM:+0000
TZOFFSETTO:+0000
TZNAME:UTC
DTSTART:20260101T000000
END:STANDARD
END:VTIMEZONE
BEGIN:VEVENT
DTSTART;TZID=UTC:20270331T100000
DTEND;TZID=UTC:20270331T153000
DTSTAMP:20260424T155758
CREATED:20230904T101126Z
LAST-MODIFIED:20250916T130724Z
UID:10169114-1806487200-1806507000@southside.media
SUMMARY:Friends Together - Over 50s
DESCRIPTION:Todays Friends are tomorrows family – come and join us at St Andrews Church Brownley Road\, Wythenshawe Every Wednesday
URL:https://southside.media/event/friends-together-over-50s/2027-03-31/
CATEGORIES:Over 50s
END:VEVENT
END:VCALENDAR