BEGIN:VCALENDAR
VERSION:2.0
PRODID:-//Southside Community Magazine - ECPv6.15.20//NONSGML v1.0//EN
CALSCALE:GREGORIAN
METHOD:PUBLISH
X-ORIGINAL-URL:https://southside.media
X-WR-CALDESC:Events for Southside Community Magazine
REFRESH-INTERVAL;VALUE=DURATION:PT1H
X-Robots-Tag:noindex
X-PUBLISHED-TTL:PT1H
BEGIN:VTIMEZONE
TZID:UTC
BEGIN:STANDARD
TZOFFSETFROM:+0000
TZOFFSETTO:+0000
TZNAME:UTC
DTSTART:20260101T000000
END:STANDARD
END:VTIMEZONE
BEGIN:VEVENT
DTSTART;TZID=UTC:20270303T100000
DTEND;TZID=UTC:20270303T153000
DTSTAMP:20260424T083523
CREATED:20230904T101126Z
LAST-MODIFIED:20250916T130724Z
UID:10169110-1804068000-1804087800@southside.media
SUMMARY:Friends Together - Over 50s
DESCRIPTION:Todays Friends are tomorrows family – come and join us at St Andrews Church Brownley Road\, Wythenshawe Every Wednesday
URL:https://southside.media/event/friends-together-over-50s/2027-03-03/
CATEGORIES:Over 50s
END:VEVENT
BEGIN:VEVENT
DTSTART;TZID=UTC:20270304T100000
DTEND;TZID=UTC:20270304T120000
DTSTAMP:20260424T083523
CREATED:20230705T115601Z
LAST-MODIFIED:20250916T160419Z
UID:10183682-1804154400-1804161600@southside.media
SUMMARY:Over 55s Conditioning Class
DESCRIPTION:
URL:https://southside.media/event/over-55s-conditioning-class/2027-03-04/
CATEGORIES:Over 50s
END:VEVENT
END:VCALENDAR