BEGIN:VCALENDAR
VERSION:2.0
PRODID:-//Southside Community Magazine - ECPv6.15.14//NONSGML v1.0//EN
CALSCALE:GREGORIAN
METHOD:PUBLISH
X-WR-CALNAME:Southside Community Magazine
X-ORIGINAL-URL:https://southside.media
X-WR-CALDESC:Events for Southside Community Magazine
REFRESH-INTERVAL;VALUE=DURATION:PT1H
X-Robots-Tag:noindex
X-PUBLISHED-TTL:PT1H
BEGIN:VTIMEZONE
TZID:UTC
BEGIN:STANDARD
TZOFFSETFROM:+0000
TZOFFSETTO:+0000
TZNAME:UTC
DTSTART:20250101T000000
END:STANDARD
END:VTIMEZONE
BEGIN:VEVENT
DTSTART;TZID=UTC:20260727T100000
DTEND;TZID=UTC:20260727T120000
DTSTAMP:20260420T012801
CREATED:20230613T120024Z
LAST-MODIFIED:20250916T114542Z
UID:10159610-1785146400-1785153600@southside.media
SUMMARY:Over 50's Monday Morning Meeting
DESCRIPTION:Join us for coffee\, chat and bingo. \nWhen are the sessions? \nMondays\, 10am – 12pm. \nFor more information \nCall Benchill Community Centre on 0161 946 9520 or email bcc@wchg.org.uk.
URL:https://southside.media/event/over-50s-monday-morning-meeting-2-2/2026-07-27/
CATEGORIES:Over 50s
END:VEVENT
BEGIN:VEVENT
DTSTART;TZID=UTC:20260727T100000
DTEND;TZID=UTC:20260727T160000
DTSTAMP:20260420T012801
CREATED:20230526T125753Z
LAST-MODIFIED:20250916T122038Z
UID:10163773-1785146400-1785168000@southside.media
SUMMARY:Later Life Living Day Club for the over 50s
DESCRIPTION:Norbrook Youth Club\, 2 Bordley Walk\, Northern Moor\, Wythenshawe Manchester M23 0AR  10 -4pm (Half day 10am – 1pm / 1pm – 4pm) \nSector – Over 50’s \nClick on the title for more information
URL:https://southside.media/event/later-life-living-day-club-for-the-over-50s-2-2/2026-07-27/
CATEGORIES:Over 50s
END:VEVENT
BEGIN:VEVENT
DTSTART;TZID=UTC:20260727T130000
DTEND;TZID=UTC:20260727T150000
DTSTAMP:20260420T012801
CREATED:20230525T152144Z
LAST-MODIFIED:20250916T120043Z
UID:10161773-1785157200-1785164400@southside.media
SUMMARY:Arts Social Class 50+
DESCRIPTION:Woodhouse Park Lifestyle Centre
URL:https://southside.media/event/arts-social-class-50/2026-07-27/
CATEGORIES:Over 50s
END:VEVENT
BEGIN:VEVENT
DTSTART;TZID=UTC:20260728T100000
DTEND;TZID=UTC:20260728T110000
DTSTAMP:20260420T012801
CREATED:20230525T144425Z
LAST-MODIFIED:20250916T115621Z
UID:10161222-1785232800-1785236400@southside.media
SUMMARY:Age Friendly Hour
DESCRIPTION:Wythenshawe Forum Library Forum Centre\, Simonsway\, Wythenshawe\, Manchester\, M22 5RX \nSector – Over 50’s
URL:https://southside.media/event/age-friendly-hour/2026-07-28/
CATEGORIES:Over 50s
END:VEVENT
BEGIN:VEVENT
DTSTART;TZID=UTC:20260728T100000
DTEND;TZID=UTC:20260728T160000
DTSTAMP:20260420T012801
CREATED:20230526T125820Z
LAST-MODIFIED:20250916T163037Z
UID:10187655-1785232800-1785254400@southside.media
SUMMARY:Later Life Living Day Club for the over 50s
DESCRIPTION:Norbrook Youth Club\, 2 Bordley Walk\, Northern Moor\, Wythenshawe Manchester M23 0AR  10 -4pm (Half day 10am – 1pm / 1pm – 4pm) \nSector – Over 50’s \nClick on the title for more information
URL:https://southside.media/event/later-life-living-day-club-for-the-over-50s-8-2/2026-07-28/
CATEGORIES:Over 50s
END:VEVENT
BEGIN:VEVENT
DTSTART;TZID=UTC:20260728T133000
DTEND;TZID=UTC:20260728T153000
DTSTAMP:20260420T012801
CREATED:20230525T151935Z
LAST-MODIFIED:20250916T120336Z
UID:10162173-1785245400-1785252600@southside.media
SUMMARY:Beginners Dance Class 50+
DESCRIPTION:A mixture of sequence ballroom and line dancing.  For those new to dance or those who prefer to dance at a leisurely pace.  £2.00 inc hot drink \nWoodhouse Park Lifestyle Centre
URL:https://southside.media/event/beginners-dance-class-50-2/2026-07-28/
CATEGORIES:Over 50s
END:VEVENT
BEGIN:VEVENT
DTSTART;TZID=UTC:20260729T093000
DTEND;TZID=UTC:20260729T150000
DTSTAMP:20260420T012801
CREATED:20230526T113045Z
LAST-MODIFIED:20250916T162505Z
UID:10186555-1785317400-1785337200@southside.media
SUMMARY:Grand Day out - Over 55s
DESCRIPTION:Wythenshawe Forum Meeting Room 1   Forum Centre\, Simonsway\, Wythenshawe\, Manchester\, M22 5RX
URL:https://southside.media/event/grand-day-out-over-55s-2-2/2026-07-29/
CATEGORIES:Over 50s
END:VEVENT
BEGIN:VEVENT
DTSTART;TZID=UTC:20260729T100000
DTEND;TZID=UTC:20260729T153000
DTSTAMP:20260420T012801
CREATED:20230904T101126Z
LAST-MODIFIED:20250916T130724Z
UID:10169079-1785319200-1785339000@southside.media
SUMMARY:Friends Together - Over 50s
DESCRIPTION:Todays Friends are tomorrows family – come and join us at St Andrews Church Brownley Road\, Wythenshawe Every Wednesday
URL:https://southside.media/event/friends-together-over-50s/2026-07-29/
CATEGORIES:Over 50s
END:VEVENT
BEGIN:VEVENT
DTSTART;TZID=UTC:20260729T100000
DTEND;TZID=UTC:20260729T160000
DTSTAMP:20260420T012801
CREATED:20230526T125901Z
LAST-MODIFIED:20250916T123707Z
UID:10166273-1785319200-1785340800@southside.media
SUMMARY:Later Life Living Day Club for the over 50s
DESCRIPTION:Norbrook Youth Club\, 2 Bordley Walk\, Northern Moor\, Wythenshawe Manchester M23 0AR  10 -4pm (Half day 10am – 1pm / 1pm – 4pm) \nSector – Over 50’s \nClick on the title for more information
URL:https://southside.media/event/later-life-living-day-club-for-the-over-50s-10-2/2026-07-29/
CATEGORIES:Over 50s
END:VEVENT
BEGIN:VEVENT
DTSTART;TZID=UTC:20260729T124500
DTEND;TZID=UTC:20260729T150000
DTSTAMP:20260420T012801
CREATED:20230613T120102Z
LAST-MODIFIED:20250916T163844Z
UID:10188955-1785329100-1785337200@southside.media
SUMMARY:Over 50s Newall Green Bingo
DESCRIPTION:Bideford Community Centre\, Bideford Dr\, Wythenshawe\, Manchester M23\, UK \nSector – Over 50’s
URL:https://southside.media/event/over-50s-newall-green-bingo-2-2/2026-07-29/
CATEGORIES:Over 50s
END:VEVENT
BEGIN:VEVENT
DTSTART;TZID=UTC:20260730T100000
DTEND;TZID=UTC:20260730T120000
DTSTAMP:20260420T012801
CREATED:20230526T130501Z
LAST-MODIFIED:20250916T124104Z
UID:10167073-1785405600-1785412800@southside.media
SUMMARY:Line Dancing 50+
DESCRIPTION:Woodhouse Park Lifestyle Centre\, Portway\, Wythenshawe\, Manchester\, M22 1QW  /  Phone : 0161 436 0560  / Email : : lifestyle.reception@wchg.org.uk  /  https://www.woodhouseparklifestylecentre.co.uk/   \nSector – Over 50’s
URL:https://southside.media/event/line-dancing-50-2/2026-07-30/
CATEGORIES:Over 50s
END:VEVENT
BEGIN:VEVENT
DTSTART;TZID=UTC:20260730T100000
DTEND;TZID=UTC:20260730T120000
DTSTAMP:20260420T012801
CREATED:20230705T115601Z
LAST-MODIFIED:20250916T160419Z
UID:10183651-1785405600-1785412800@southside.media
SUMMARY:Over 55s Conditioning Class
DESCRIPTION:
URL:https://southside.media/event/over-55s-conditioning-class/2026-07-30/
CATEGORIES:Over 50s
END:VEVENT
BEGIN:VEVENT
DTSTART;TZID=UTC:20260730T100000
DTEND;TZID=UTC:20260730T160000
DTSTAMP:20260420T012801
CREATED:20230526T130018Z
LAST-MODIFIED:20250916T162311Z
UID:10186455-1785405600-1785427200@southside.media
SUMMARY:Later Life Living Day Club for the over 50s
DESCRIPTION:Norbrook Youth Club\, 2 Bordley Walk\, Northern Moor\, Wythenshawe Manchester M23 0AR  10 -4pm (Half day 10am – 1pm / 1pm – 4pm) \nSector – Over 50’s \nClick on the title for more information
URL:https://southside.media/event/later-life-living-day-club-for-the-over-50s-5-2/2026-07-30/
CATEGORIES:Over 50s
END:VEVENT
BEGIN:VEVENT
DTSTART;TZID=UTC:20260730T110000
DTEND;TZID=UTC:20260730T130000
DTSTAMP:20260420T012801
CREATED:20230613T115824Z
LAST-MODIFIED:20250916T163718Z
UID:10188655-1785409200-1785416400@southside.media
SUMMARY:Never Too Old - Community Grocery
DESCRIPTION:‘Never Too Old’ is an over 50s community group where members can meet friends have a laugh and learn something new.  Each week they will be afternoon tea style refreshments and different activities to join in with. \nFREE \nFor more details go to : www.communitygrocery.org.uk/sharston and sign up to any group  //  Call 0161 946 9494 or email sharston@communitygrocery.org.uk
URL:https://southside.media/event/never-too-old-community-grocery-2/2026-07-30/
CATEGORIES:Over 50s
END:VEVENT
BEGIN:VEVENT
DTSTART;TZID=UTC:20260730T130000
DTEND;TZID=UTC:20260730T143000
DTSTAMP:20260420T012801
CREATED:20230613T120147Z
LAST-MODIFIED:20250916T163957Z
UID:10189055-1785416400-1785421800@southside.media
SUMMARY:Over 55s Lunch and Friendship Group
DESCRIPTION:Tree of Life Centre\, Greenbrow Road\, Newall Green\, Manchester M23 2UE  0161 489 7018  /  info@treeoflifecentre.org.uk  /  https://www.treeoflifecentre.org.uk/ \nSector – Over 50’s \nClick on the title for more information
URL:https://southside.media/event/over-55s-lunch-and-friendship-group-2-2/2026-07-30/
CATEGORIES:Over 50s
END:VEVENT
BEGIN:VEVENT
DTSTART;TZID=UTC:20260731T100000
DTEND;TZID=UTC:20260731T160000
DTSTAMP:20260420T012801
CREATED:20230526T130042Z
LAST-MODIFIED:20250916T161317Z
UID:10185155-1785492000-1785513600@southside.media
SUMMARY:Later Life Living Day Club for the over 50s
DESCRIPTION:Norbrook Youth Club\, 2 Bordley Walk\, Northern Moor\, Wythenshawe Manchester M23 0AR  10 -4pm (Half day 10am – 1pm / 1pm – 4pm) \nSector – Over 50’s \nClick on the title for more information
URL:https://southside.media/event/later-life-living-day-club-for-the-over-50s-3/2026-07-31/
CATEGORIES:Over 50s
END:VEVENT
END:VCALENDAR