BEGIN:VCALENDAR
VERSION:2.0
PRODID:-//Southside Community Magazine - ECPv6.15.14//NONSGML v1.0//EN
CALSCALE:GREGORIAN
METHOD:PUBLISH
X-ORIGINAL-URL:https://southside.media
X-WR-CALDESC:Events for Southside Community Magazine
REFRESH-INTERVAL;VALUE=DURATION:PT1H
X-Robots-Tag:noindex
X-PUBLISHED-TTL:PT1H
BEGIN:VTIMEZONE
TZID:UTC
BEGIN:STANDARD
TZOFFSETFROM:+0000
TZOFFSETTO:+0000
TZNAME:UTC
DTSTART:20250101T000000
END:STANDARD
END:VTIMEZONE
BEGIN:VEVENT
DTSTART;TZID=UTC:20260706T100000
DTEND;TZID=UTC:20260706T120000
DTSTAMP:20260419T201521
CREATED:20230613T120024Z
LAST-MODIFIED:20250916T114542Z
UID:10159607-1783332000-1783339200@southside.media
SUMMARY:Over 50's Monday Morning Meeting
DESCRIPTION:Join us for coffee\, chat and bingo. \nWhen are the sessions? \nMondays\, 10am – 12pm. \nFor more information \nCall Benchill Community Centre on 0161 946 9520 or email bcc@wchg.org.uk.
URL:https://southside.media/event/over-50s-monday-morning-meeting-2-2/2026-07-06/
CATEGORIES:Over 50s
END:VEVENT
BEGIN:VEVENT
DTSTART;TZID=UTC:20260706T100000
DTEND;TZID=UTC:20260706T160000
DTSTAMP:20260419T201521
CREATED:20230526T125753Z
LAST-MODIFIED:20250916T122038Z
UID:10163770-1783332000-1783353600@southside.media
SUMMARY:Later Life Living Day Club for the over 50s
DESCRIPTION:Norbrook Youth Club\, 2 Bordley Walk\, Northern Moor\, Wythenshawe Manchester M23 0AR  10 -4pm (Half day 10am – 1pm / 1pm – 4pm) \nSector – Over 50’s \nClick on the title for more information
URL:https://southside.media/event/later-life-living-day-club-for-the-over-50s-2-2/2026-07-06/
CATEGORIES:Over 50s
END:VEVENT
BEGIN:VEVENT
DTSTART;TZID=UTC:20260706T130000
DTEND;TZID=UTC:20260706T150000
DTSTAMP:20260419T201521
CREATED:20230525T152144Z
LAST-MODIFIED:20250916T120043Z
UID:10161770-1783342800-1783350000@southside.media
SUMMARY:Arts Social Class 50+
DESCRIPTION:Woodhouse Park Lifestyle Centre
URL:https://southside.media/event/arts-social-class-50/2026-07-06/
CATEGORIES:Over 50s
END:VEVENT
BEGIN:VEVENT
DTSTART;TZID=UTC:20260707T100000
DTEND;TZID=UTC:20260707T110000
DTSTAMP:20260419T201521
CREATED:20230525T144425Z
LAST-MODIFIED:20250916T115621Z
UID:10161219-1783418400-1783422000@southside.media
SUMMARY:Age Friendly Hour
DESCRIPTION:Wythenshawe Forum Library Forum Centre\, Simonsway\, Wythenshawe\, Manchester\, M22 5RX \nSector – Over 50’s
URL:https://southside.media/event/age-friendly-hour/2026-07-07/
CATEGORIES:Over 50s
END:VEVENT
BEGIN:VEVENT
DTSTART;TZID=UTC:20260707T100000
DTEND;TZID=UTC:20260707T160000
DTSTAMP:20260419T201521
CREATED:20230526T125820Z
LAST-MODIFIED:20250916T163037Z
UID:10187652-1783418400-1783440000@southside.media
SUMMARY:Later Life Living Day Club for the over 50s
DESCRIPTION:Norbrook Youth Club\, 2 Bordley Walk\, Northern Moor\, Wythenshawe Manchester M23 0AR  10 -4pm (Half day 10am – 1pm / 1pm – 4pm) \nSector – Over 50’s \nClick on the title for more information
URL:https://southside.media/event/later-life-living-day-club-for-the-over-50s-8-2/2026-07-07/
CATEGORIES:Over 50s
END:VEVENT
BEGIN:VEVENT
DTSTART;TZID=UTC:20260707T133000
DTEND;TZID=UTC:20260707T153000
DTSTAMP:20260419T201521
CREATED:20230525T151935Z
LAST-MODIFIED:20250916T120336Z
UID:10162170-1783431000-1783438200@southside.media
SUMMARY:Beginners Dance Class 50+
DESCRIPTION:A mixture of sequence ballroom and line dancing.  For those new to dance or those who prefer to dance at a leisurely pace.  £2.00 inc hot drink \nWoodhouse Park Lifestyle Centre
URL:https://southside.media/event/beginners-dance-class-50-2/2026-07-07/
CATEGORIES:Over 50s
END:VEVENT
BEGIN:VEVENT
DTSTART;TZID=UTC:20260708T093000
DTEND;TZID=UTC:20260708T150000
DTSTAMP:20260419T201521
CREATED:20230526T113045Z
LAST-MODIFIED:20250916T162505Z
UID:10186552-1783503000-1783522800@southside.media
SUMMARY:Grand Day out - Over 55s
DESCRIPTION:Wythenshawe Forum Meeting Room 1   Forum Centre\, Simonsway\, Wythenshawe\, Manchester\, M22 5RX
URL:https://southside.media/event/grand-day-out-over-55s-2-2/2026-07-08/
CATEGORIES:Over 50s
END:VEVENT
BEGIN:VEVENT
DTSTART;TZID=UTC:20260708T100000
DTEND;TZID=UTC:20260708T153000
DTSTAMP:20260419T201521
CREATED:20230904T101126Z
LAST-MODIFIED:20250916T130724Z
UID:10169076-1783504800-1783524600@southside.media
SUMMARY:Friends Together - Over 50s
DESCRIPTION:Todays Friends are tomorrows family – come and join us at St Andrews Church Brownley Road\, Wythenshawe Every Wednesday
URL:https://southside.media/event/friends-together-over-50s/2026-07-08/
CATEGORIES:Over 50s
END:VEVENT
BEGIN:VEVENT
DTSTART;TZID=UTC:20260708T100000
DTEND;TZID=UTC:20260708T160000
DTSTAMP:20260419T201521
CREATED:20230526T125901Z
LAST-MODIFIED:20250916T123707Z
UID:10166270-1783504800-1783526400@southside.media
SUMMARY:Later Life Living Day Club for the over 50s
DESCRIPTION:Norbrook Youth Club\, 2 Bordley Walk\, Northern Moor\, Wythenshawe Manchester M23 0AR  10 -4pm (Half day 10am – 1pm / 1pm – 4pm) \nSector – Over 50’s \nClick on the title for more information
URL:https://southside.media/event/later-life-living-day-club-for-the-over-50s-10-2/2026-07-08/
CATEGORIES:Over 50s
END:VEVENT
BEGIN:VEVENT
DTSTART;TZID=UTC:20260708T124500
DTEND;TZID=UTC:20260708T150000
DTSTAMP:20260419T201521
CREATED:20230613T120102Z
LAST-MODIFIED:20250916T163844Z
UID:10188952-1783514700-1783522800@southside.media
SUMMARY:Over 50s Newall Green Bingo
DESCRIPTION:Bideford Community Centre\, Bideford Dr\, Wythenshawe\, Manchester M23\, UK \nSector – Over 50’s
URL:https://southside.media/event/over-50s-newall-green-bingo-2-2/2026-07-08/
CATEGORIES:Over 50s
END:VEVENT
BEGIN:VEVENT
DTSTART;TZID=UTC:20260709T100000
DTEND;TZID=UTC:20260709T120000
DTSTAMP:20260419T201521
CREATED:20230526T130501Z
LAST-MODIFIED:20250916T124104Z
UID:10167070-1783591200-1783598400@southside.media
SUMMARY:Line Dancing 50+
DESCRIPTION:Woodhouse Park Lifestyle Centre\, Portway\, Wythenshawe\, Manchester\, M22 1QW  /  Phone : 0161 436 0560  / Email : : lifestyle.reception@wchg.org.uk  /  https://www.woodhouseparklifestylecentre.co.uk/   \nSector – Over 50’s
URL:https://southside.media/event/line-dancing-50-2/2026-07-09/
CATEGORIES:Over 50s
END:VEVENT
BEGIN:VEVENT
DTSTART;TZID=UTC:20260709T100000
DTEND;TZID=UTC:20260709T120000
DTSTAMP:20260419T201522
CREATED:20230705T115601Z
LAST-MODIFIED:20250916T160419Z
UID:10183648-1783591200-1783598400@southside.media
SUMMARY:Over 55s Conditioning Class
DESCRIPTION:
URL:https://southside.media/event/over-55s-conditioning-class/2026-07-09/
CATEGORIES:Over 50s
END:VEVENT
BEGIN:VEVENT
DTSTART;TZID=UTC:20260709T100000
DTEND;TZID=UTC:20260709T160000
DTSTAMP:20260419T201522
CREATED:20230526T130018Z
LAST-MODIFIED:20250916T162311Z
UID:10186452-1783591200-1783612800@southside.media
SUMMARY:Later Life Living Day Club for the over 50s
DESCRIPTION:Norbrook Youth Club\, 2 Bordley Walk\, Northern Moor\, Wythenshawe Manchester M23 0AR  10 -4pm (Half day 10am – 1pm / 1pm – 4pm) \nSector – Over 50’s \nClick on the title for more information
URL:https://southside.media/event/later-life-living-day-club-for-the-over-50s-5-2/2026-07-09/
CATEGORIES:Over 50s
END:VEVENT
BEGIN:VEVENT
DTSTART;TZID=UTC:20260709T110000
DTEND;TZID=UTC:20260709T130000
DTSTAMP:20260419T201522
CREATED:20230613T115824Z
LAST-MODIFIED:20250916T163718Z
UID:10188652-1783594800-1783602000@southside.media
SUMMARY:Never Too Old - Community Grocery
DESCRIPTION:‘Never Too Old’ is an over 50s community group where members can meet friends have a laugh and learn something new.  Each week they will be afternoon tea style refreshments and different activities to join in with. \nFREE \nFor more details go to : www.communitygrocery.org.uk/sharston and sign up to any group  //  Call 0161 946 9494 or email sharston@communitygrocery.org.uk
URL:https://southside.media/event/never-too-old-community-grocery-2/2026-07-09/
CATEGORIES:Over 50s
END:VEVENT
BEGIN:VEVENT
DTSTART;TZID=UTC:20260709T130000
DTEND;TZID=UTC:20260709T143000
DTSTAMP:20260419T201522
CREATED:20230613T120147Z
LAST-MODIFIED:20250916T163957Z
UID:10189052-1783602000-1783607400@southside.media
SUMMARY:Over 55s Lunch and Friendship Group
DESCRIPTION:Tree of Life Centre\, Greenbrow Road\, Newall Green\, Manchester M23 2UE  0161 489 7018  /  info@treeoflifecentre.org.uk  /  https://www.treeoflifecentre.org.uk/ \nSector – Over 50’s \nClick on the title for more information
URL:https://southside.media/event/over-55s-lunch-and-friendship-group-2-2/2026-07-09/
CATEGORIES:Over 50s
END:VEVENT
BEGIN:VEVENT
DTSTART;TZID=UTC:20260710T100000
DTEND;TZID=UTC:20260710T160000
DTSTAMP:20260419T201522
CREATED:20230526T130042Z
LAST-MODIFIED:20250916T161317Z
UID:10185152-1783677600-1783699200@southside.media
SUMMARY:Later Life Living Day Club for the over 50s
DESCRIPTION:Norbrook Youth Club\, 2 Bordley Walk\, Northern Moor\, Wythenshawe Manchester M23 0AR  10 -4pm (Half day 10am – 1pm / 1pm – 4pm) \nSector – Over 50’s \nClick on the title for more information
URL:https://southside.media/event/later-life-living-day-club-for-the-over-50s-3/2026-07-10/
CATEGORIES:Over 50s
END:VEVENT
END:VCALENDAR