BEGIN:VCALENDAR
VERSION:2.0
PRODID:-//Southside Community Magazine - ECPv6.15.14//NONSGML v1.0//EN
CALSCALE:GREGORIAN
METHOD:PUBLISH
X-WR-CALNAME:Southside Community Magazine
X-ORIGINAL-URL:https://southside.media
X-WR-CALDESC:Events for Southside Community Magazine
REFRESH-INTERVAL;VALUE=DURATION:PT1H
X-Robots-Tag:noindex
X-PUBLISHED-TTL:PT1H
BEGIN:VTIMEZONE
TZID:UTC
BEGIN:STANDARD
TZOFFSETFROM:+0000
TZOFFSETTO:+0000
TZNAME:UTC
DTSTART:20240101T000000
END:STANDARD
END:VTIMEZONE
BEGIN:VEVENT
DTSTART;TZID=UTC:20250519T100000
DTEND;TZID=UTC:20250519T120000
DTSTAMP:20260422T014248
CREATED:20230613T120024Z
LAST-MODIFIED:20250916T114542Z
UID:10159548-1747648800-1747656000@southside.media
SUMMARY:Over 50's Monday Morning Meeting
DESCRIPTION:Join us for coffee\, chat and bingo. \nWhen are the sessions? \nMondays\, 10am – 12pm. \nFor more information \nCall Benchill Community Centre on 0161 946 9520 or email bcc@wchg.org.uk.
URL:https://southside.media/event/over-50s-monday-morning-meeting-2-2/2025-05-19/
CATEGORIES:Over 50s
END:VEVENT
BEGIN:VEVENT
DTSTART;TZID=UTC:20250519T100000
DTEND;TZID=UTC:20250519T160000
DTSTAMP:20260422T014248
CREATED:20230526T125753Z
LAST-MODIFIED:20250916T122038Z
UID:10163711-1747648800-1747670400@southside.media
SUMMARY:Later Life Living Day Club for the over 50s
DESCRIPTION:Norbrook Youth Club\, 2 Bordley Walk\, Northern Moor\, Wythenshawe Manchester M23 0AR  10 -4pm (Half day 10am – 1pm / 1pm – 4pm) \nSector – Over 50’s \nClick on the title for more information
URL:https://southside.media/event/later-life-living-day-club-for-the-over-50s-2-2/2025-05-19/
CATEGORIES:Over 50s
END:VEVENT
BEGIN:VEVENT
DTSTART;TZID=UTC:20250519T130000
DTEND;TZID=UTC:20250519T150000
DTSTAMP:20260422T014248
CREATED:20230525T152144Z
LAST-MODIFIED:20250916T120043Z
UID:10161711-1747659600-1747666800@southside.media
SUMMARY:Arts Social Class 50+
DESCRIPTION:Woodhouse Park Lifestyle Centre
URL:https://southside.media/event/arts-social-class-50/2025-05-19/
CATEGORIES:Over 50s
END:VEVENT
BEGIN:VEVENT
DTSTART;TZID=UTC:20250520T100000
DTEND;TZID=UTC:20250520T110000
DTSTAMP:20260422T014248
CREATED:20230525T144425Z
LAST-MODIFIED:20250916T115621Z
UID:10161160-1747735200-1747738800@southside.media
SUMMARY:Age Friendly Hour
DESCRIPTION:Wythenshawe Forum Library Forum Centre\, Simonsway\, Wythenshawe\, Manchester\, M22 5RX \nSector – Over 50’s
URL:https://southside.media/event/age-friendly-hour/2025-05-20/
CATEGORIES:Over 50s
END:VEVENT
BEGIN:VEVENT
DTSTART;TZID=UTC:20250520T100000
DTEND;TZID=UTC:20250520T160000
DTSTAMP:20260422T014248
CREATED:20230526T125820Z
LAST-MODIFIED:20250916T163037Z
UID:10187593-1747735200-1747756800@southside.media
SUMMARY:Later Life Living Day Club for the over 50s
DESCRIPTION:Norbrook Youth Club\, 2 Bordley Walk\, Northern Moor\, Wythenshawe Manchester M23 0AR  10 -4pm (Half day 10am – 1pm / 1pm – 4pm) \nSector – Over 50’s \nClick on the title for more information
URL:https://southside.media/event/later-life-living-day-club-for-the-over-50s-8-2/2025-05-20/
CATEGORIES:Over 50s
END:VEVENT
BEGIN:VEVENT
DTSTART;TZID=UTC:20250520T133000
DTEND;TZID=UTC:20250520T153000
DTSTAMP:20260422T014248
CREATED:20230525T151935Z
LAST-MODIFIED:20250916T120336Z
UID:10162111-1747747800-1747755000@southside.media
SUMMARY:Beginners Dance Class 50+
DESCRIPTION:A mixture of sequence ballroom and line dancing.  For those new to dance or those who prefer to dance at a leisurely pace.  £2.00 inc hot drink \nWoodhouse Park Lifestyle Centre
URL:https://southside.media/event/beginners-dance-class-50-2/2025-05-20/
CATEGORIES:Over 50s
END:VEVENT
BEGIN:VEVENT
DTSTART;TZID=UTC:20250521T093000
DTEND;TZID=UTC:20250521T150000
DTSTAMP:20260422T014248
CREATED:20230526T113045Z
LAST-MODIFIED:20250916T162505Z
UID:10186493-1747819800-1747839600@southside.media
SUMMARY:Grand Day out - Over 55s
DESCRIPTION:Wythenshawe Forum Meeting Room 1   Forum Centre\, Simonsway\, Wythenshawe\, Manchester\, M22 5RX
URL:https://southside.media/event/grand-day-out-over-55s-2-2/2025-05-21/
CATEGORIES:Over 50s
END:VEVENT
BEGIN:VEVENT
DTSTART;TZID=UTC:20250521T100000
DTEND;TZID=UTC:20250521T153000
DTSTAMP:20260422T014248
CREATED:20230904T101126Z
LAST-MODIFIED:20250916T130724Z
UID:10064536-1747821600-1747841400@southside.media
SUMMARY:Friends Together - Over 50s
DESCRIPTION:Todays Friends are tomorrows family – come and join us at St Andrews Church Brownley Road\, Wythenshawe Every Wednesday
URL:https://southside.media/event/friends-together-over-50s/2025-05-21/
CATEGORIES:Over 50s
END:VEVENT
BEGIN:VEVENT
DTSTART;TZID=UTC:20250521T100000
DTEND;TZID=UTC:20250521T160000
DTSTAMP:20260422T014248
CREATED:20230526T125901Z
LAST-MODIFIED:20250916T123707Z
UID:10166211-1747821600-1747843200@southside.media
SUMMARY:Later Life Living Day Club for the over 50s
DESCRIPTION:Norbrook Youth Club\, 2 Bordley Walk\, Northern Moor\, Wythenshawe Manchester M23 0AR  10 -4pm (Half day 10am – 1pm / 1pm – 4pm) \nSector – Over 50’s \nClick on the title for more information
URL:https://southside.media/event/later-life-living-day-club-for-the-over-50s-10-2/2025-05-21/
CATEGORIES:Over 50s
END:VEVENT
BEGIN:VEVENT
DTSTART;TZID=UTC:20250521T124500
DTEND;TZID=UTC:20250521T150000
DTSTAMP:20260422T014248
CREATED:20230613T120102Z
LAST-MODIFIED:20250916T163844Z
UID:10188893-1747831500-1747839600@southside.media
SUMMARY:Over 50s Newall Green Bingo
DESCRIPTION:Bideford Community Centre\, Bideford Dr\, Wythenshawe\, Manchester M23\, UK \nSector – Over 50’s
URL:https://southside.media/event/over-50s-newall-green-bingo-2-2/2025-05-21/
CATEGORIES:Over 50s
END:VEVENT
BEGIN:VEVENT
DTSTART;TZID=UTC:20250522T100000
DTEND;TZID=UTC:20250522T120000
DTSTAMP:20260422T014248
CREATED:20230526T130501Z
LAST-MODIFIED:20250916T124104Z
UID:10167011-1747908000-1747915200@southside.media
SUMMARY:Line Dancing 50+
DESCRIPTION:Woodhouse Park Lifestyle Centre\, Portway\, Wythenshawe\, Manchester\, M22 1QW  /  Phone : 0161 436 0560  / Email : : lifestyle.reception@wchg.org.uk  /  https://www.woodhouseparklifestylecentre.co.uk/   \nSector – Over 50’s
URL:https://southside.media/event/line-dancing-50-2/2025-05-22/
CATEGORIES:Over 50s
END:VEVENT
BEGIN:VEVENT
DTSTART;TZID=UTC:20250522T100000
DTEND;TZID=UTC:20250522T120000
DTSTAMP:20260422T014248
CREATED:20230705T115601Z
LAST-MODIFIED:20250916T160419Z
UID:10183589-1747908000-1747915200@southside.media
SUMMARY:Over 55s Conditioning Class
DESCRIPTION:
URL:https://southside.media/event/over-55s-conditioning-class/2025-05-22/
CATEGORIES:Over 50s
END:VEVENT
BEGIN:VEVENT
DTSTART;TZID=UTC:20250522T100000
DTEND;TZID=UTC:20250522T160000
DTSTAMP:20260422T014248
CREATED:20230526T130018Z
LAST-MODIFIED:20250916T162311Z
UID:10186393-1747908000-1747929600@southside.media
SUMMARY:Later Life Living Day Club for the over 50s
DESCRIPTION:Norbrook Youth Club\, 2 Bordley Walk\, Northern Moor\, Wythenshawe Manchester M23 0AR  10 -4pm (Half day 10am – 1pm / 1pm – 4pm) \nSector – Over 50’s \nClick on the title for more information
URL:https://southside.media/event/later-life-living-day-club-for-the-over-50s-5-2/2025-05-22/
CATEGORIES:Over 50s
END:VEVENT
BEGIN:VEVENT
DTSTART;TZID=UTC:20250522T110000
DTEND;TZID=UTC:20250522T130000
DTSTAMP:20260422T014248
CREATED:20230613T115824Z
LAST-MODIFIED:20250916T163718Z
UID:10188593-1747911600-1747918800@southside.media
SUMMARY:Never Too Old - Community Grocery
DESCRIPTION:‘Never Too Old’ is an over 50s community group where members can meet friends have a laugh and learn something new.  Each week they will be afternoon tea style refreshments and different activities to join in with. \nFREE \nFor more details go to : www.communitygrocery.org.uk/sharston and sign up to any group  //  Call 0161 946 9494 or email sharston@communitygrocery.org.uk
URL:https://southside.media/event/never-too-old-community-grocery-2/2025-05-22/
CATEGORIES:Over 50s
END:VEVENT
BEGIN:VEVENT
DTSTART;TZID=UTC:20250522T130000
DTEND;TZID=UTC:20250522T143000
DTSTAMP:20260422T014248
CREATED:20230613T120147Z
LAST-MODIFIED:20250916T163957Z
UID:10188993-1747918800-1747924200@southside.media
SUMMARY:Over 55s Lunch and Friendship Group
DESCRIPTION:Tree of Life Centre\, Greenbrow Road\, Newall Green\, Manchester M23 2UE  0161 489 7018  /  info@treeoflifecentre.org.uk  /  https://www.treeoflifecentre.org.uk/ \nSector – Over 50’s \nClick on the title for more information
URL:https://southside.media/event/over-55s-lunch-and-friendship-group-2-2/2025-05-22/
CATEGORIES:Over 50s
END:VEVENT
BEGIN:VEVENT
DTSTART;TZID=UTC:20250523T100000
DTEND;TZID=UTC:20250523T160000
DTSTAMP:20260422T014248
CREATED:20230526T130042Z
LAST-MODIFIED:20250916T161317Z
UID:10185093-1747994400-1748016000@southside.media
SUMMARY:Later Life Living Day Club for the over 50s
DESCRIPTION:Norbrook Youth Club\, 2 Bordley Walk\, Northern Moor\, Wythenshawe Manchester M23 0AR  10 -4pm (Half day 10am – 1pm / 1pm – 4pm) \nSector – Over 50’s \nClick on the title for more information
URL:https://southside.media/event/later-life-living-day-club-for-the-over-50s-3/2025-05-23/
CATEGORIES:Over 50s
END:VEVENT
END:VCALENDAR